BEGIN:VCALENDAR
VERSION:2.0
PRODID:-//pretix//pretix.eu//
BEGIN:VTIMEZONE
TZID:Europe/Vienna
BEGIN:STANDARD
DTSTART:20001029T040000
RRULE:FREQ=YEARLY;BYDAY=-1SU;BYMONTH=10
TZNAME:CET
TZOFFSETFROM:+0200
TZOFFSETTO:+0100
END:STANDARD
BEGIN:DAYLIGHT
DTSTART:20000326T030000
RRULE:FREQ=YEARLY;BYDAY=-1SU;BYMONTH=3
TZNAME:CEST
TZOFFSETFROM:+0100
TZOFFSETTO:+0200
END:DAYLIGHT
END:VTIMEZONE
BEGIN:VEVENT
UID:pretix-futurelaw-aiday-0@events.future-law.at
DTSTART;TZID=Europe/Vienna:20240221T090000
DTEND;TZID=Europe/Vienna:20240221T140000
DESCRIPTION:Tickets: https://events.future-law.at/aiday/\nOrganizer: Future
 -Law
DTSTAMP:20260420T140247Z
LOCATION:Online
SUMMARY:AI Day in Legal
END:VEVENT
END:VCALENDAR
